BEGIN:VCALENDAR
VERSION:2.0
PRODID:-//PublicTechnology - ECPv6.15.20//NONSGML v1.0//EN
CALSCALE:GREGORIAN
METHOD:PUBLISH
X-WR-CALNAME:PublicTechnology
X-ORIGINAL-URL:https://www.publictechnology.net
X-WR-CALDESC:Events for PublicTechnology
REFRESH-INTERVAL;VALUE=DURATION:PT1H
X-Robots-Tag:noindex
X-PUBLISHED-TTL:PT1H
BEGIN:VTIMEZONE
TZID:UTC
BEGIN:STANDARD
TZOFFSETFROM:+0000
TZOFFSETTO:+0000
TZNAME:UTC
DTSTART:20250101T000000
END:STANDARD
END:VTIMEZONE
BEGIN:VEVENT
DTSTART;TZID=UTC:20260312T103000
DTEND;TZID=UTC:20260312T113000
DTSTAMP:20260422T034618
CREATED:20260120T131357Z
LAST-MODIFIED:20260120T131434Z
UID:12869-1773311400-1773315000@www.publictechnology.net
SUMMARY:100 Years of Change: Is the Civil Service Ready for the Future?
DESCRIPTION:100 Years of Change: Is the Civil Service Ready for the Future?\n🗓️ 12 March 2026\n🖥️ Free online webinar\n⏱️ 10:30 – 11:30 AM (GMT)\nThe civil service has continuously reshaped itself over the past century to meet shifting expectations of public service. \nSweeping reforms – from the abolition of the marriage bar in 1946\, to the birth of ‘Next Steps’ executive agencies under Thatcher\, and more recently the ongoing Places for Growth agenda and rise of hybrid-working – show just how much the civil service has changed. \nThis CSW webinar\, hosted in partnership with the Charity for Civil Servants\, offers a unique opportunity to reflect on some of these milestones and hear insights from a distinguished panel of former top officials about what the civil service could – and should – look like in the decades to come. \nDiscussion topics will include: \n\nDiversity and inclusion: Is the civil service still making progress or has it reached a plateau?\nMental health and resilience: What systemic changes are needed to support wellbeing – particularly for those in high-pressure roles?\nSkills for the future civil servant: What competencies will matter most in 2035 and beyond?\nGlobal lessons: What can the UK learn from other countries’ civil service reforms?\n\n \n\n\n\nRegister Free Today\n\n\n\n\n 
URL:https://www.publictechnology.net/event/100-years-of-change-is-the-civil-service-ready-for-the-future/
LOCATION:Online
ATTACH;FMTTYPE=image/png:https://www.publictechnology.net/wp-content/uploads/2026/01/100-years-of-change.png
END:VEVENT
END:VCALENDAR